BEGIN:VCALENDAR
VERSION:2.0
PRODID:-//eventon.com NONSGML v1.0//EN
CALSCALE:GREGORIAN
METHOD:PUBLISH
BEGIN:VEVENT
UID:69e88fc0b3e98
DTSTAMP:20260422T090712Z
DTSTART:20230115
DTEND:20230116
LOCATION:
SUMMARY:National Strawberry Ice Cream Day
DESCRIPTION:National Strawberry Ice Cream Day\nhttps://kitchentestedrecipes
 .com/events/national-strawberry-ice-cream-day/
URL:https://kitchentestedrecipes.com/events/national-strawberry-ice-cream-day/
END:VEVENT
END:VCALENDAR