BEGIN:VCALENDAR
VERSION:2.0
PRODID:-//eventon.com NONSGML v1.0//EN
CALSCALE:GREGORIAN
METHOD:PUBLISH
BEGIN:VEVENT
UID:69e759e1d1518
DTSTAMP:20260421T110505Z
DTSTART:20240407
DTEND:20240408
LOCATION:
SUMMARY:National Coffee Cake Day
DESCRIPTION:April 7th is National Coffee Cake Day! National Coffee Cake Day
 \nhttps://kitchentestedrecipes.com/events/national-coffee-cake-day/
URL:https://kitchentestedrecipes.com/events/national-coffee-cake-day/
END:VEVENT
END:VCALENDAR